BEGIN:VCALENDAR
VERSION:2.0
PRODID:-//Geauga News - ECPv6.15.20//NONSGML v1.0//EN
CALSCALE:GREGORIAN
METHOD:PUBLISH
X-WR-CALNAME:Geauga News
X-ORIGINAL-URL:https://geauganews.com
X-WR-CALDESC:Events for Geauga News
REFRESH-INTERVAL;VALUE=DURATION:PT1H
X-Robots-Tag:noindex
X-PUBLISHED-TTL:PT1H
BEGIN:VTIMEZONE
TZID:America/New_York
BEGIN:DAYLIGHT
TZOFFSETFROM:-0500
TZOFFSETTO:-0400
TZNAME:EDT
DTSTART:20120311T070000
END:DAYLIGHT
BEGIN:STANDARD
TZOFFSETFROM:-0400
TZOFFSETTO:-0500
TZNAME:EST
DTSTART:20121104T060000
END:STANDARD
BEGIN:DAYLIGHT
TZOFFSETFROM:-0500
TZOFFSETTO:-0400
TZNAME:EDT
DTSTART:20130310T070000
END:DAYLIGHT
BEGIN:STANDARD
TZOFFSETFROM:-0400
TZOFFSETTO:-0500
TZNAME:EST
DTSTART:20131103T060000
END:STANDARD
BEGIN:DAYLIGHT
TZOFFSETFROM:-0500
TZOFFSETTO:-0400
TZNAME:EDT
DTSTART:20140309T070000
END:DAYLIGHT
BEGIN:STANDARD
TZOFFSETFROM:-0400
TZOFFSETTO:-0500
TZNAME:EST
DTSTART:20141102T060000
END:STANDARD
END:VTIMEZONE
BEGIN:VEVENT
DTSTART;VALUE=DATE:20131130
DTEND;VALUE=DATE:20131202
DTSTAMP:20260421T200340
CREATED:20131021T194856Z
LAST-MODIFIED:20131021T194856Z
UID:10000207-1385769600-1385942399@geauganews.com
SUMMARY:Holiday Country Fair
DESCRIPTION:Escape to the country and join some of your favorite craft and direct sales vendors for a stress-free holiday shopping event! \nUnique gifts\, cash & carry items\, stocking stuffers\, holiday food ideas and much more! \nGift basket drawing with proceeds going to Adopt-a-Family of Geauga County \n \n 
URL:https://geauganews.com/local-event/holiday-country-fair/
LOCATION:Red Maple Inn\, 14707 South Cheshire\, Burton\, OH\, 44021\, United States
ORGANIZER;CN="Linda O'Hara":MAILTO:lindaohara31@yahoo.com
END:VEVENT
END:VCALENDAR