BEGIN:VCALENDAR
VERSION:2.0
PRODID:-//Geauga News - ECPv6.15.20//NONSGML v1.0//EN
CALSCALE:GREGORIAN
METHOD:PUBLISH
X-WR-CALNAME:Geauga News
X-ORIGINAL-URL:https://geauganews.com
X-WR-CALDESC:Events for Geauga News
REFRESH-INTERVAL;VALUE=DURATION:PT1H
X-Robots-Tag:noindex
X-PUBLISHED-TTL:PT1H
BEGIN:VTIMEZONE
TZID:America/New_York
BEGIN:DAYLIGHT
TZOFFSETFROM:-0500
TZOFFSETTO:-0400
TZNAME:EDT
DTSTART:20120311T070000
END:DAYLIGHT
BEGIN:STANDARD
TZOFFSETFROM:-0400
TZOFFSETTO:-0500
TZNAME:EST
DTSTART:20121104T060000
END:STANDARD
BEGIN:DAYLIGHT
TZOFFSETFROM:-0500
TZOFFSETTO:-0400
TZNAME:EDT
DTSTART:20130310T070000
END:DAYLIGHT
BEGIN:STANDARD
TZOFFSETFROM:-0400
TZOFFSETTO:-0500
TZNAME:EST
DTSTART:20131103T060000
END:STANDARD
BEGIN:DAYLIGHT
TZOFFSETFROM:-0500
TZOFFSETTO:-0400
TZNAME:EDT
DTSTART:20140309T070000
END:DAYLIGHT
BEGIN:STANDARD
TZOFFSETFROM:-0400
TZOFFSETTO:-0500
TZNAME:EST
DTSTART:20141102T060000
END:STANDARD
END:VTIMEZONE
BEGIN:VEVENT
DTSTART;TZID=America/New_York:20130726T170000
DTEND;TZID=America/New_York:20130726T200000
DTSTAMP:20260421T122804
CREATED:20130708T193251Z
LAST-MODIFIED:20130708T193251Z
UID:10000062-1374858000-1374868800@geauganews.com
SUMMARY:Fish Fry Friday
DESCRIPTION:That’s Right\, not just at Lent this year – our All-U-Can-Eat Fish Fry & Roast Beef Dinners are back for July – Fridays 7/5 through 7/26 only! \nSpecial Featured Selections each week. Click here for more event information.
URL:https://geauganews.com/local-event/fish-fry-friday-2/
LOCATION:SunValley Party Center\, 10000 Edwards Rd\, Auburn Township\, 44023
END:VEVENT
BEGIN:VEVENT
DTSTART;TZID=America/New_York:20130719T170000
DTEND;TZID=America/New_York:20130719T200000
DTSTAMP:20260421T122804
CREATED:20130708T192904Z
LAST-MODIFIED:20130708T192941Z
UID:10000061-1374253200-1374264000@geauganews.com
SUMMARY:Fish Fry Friday
DESCRIPTION:That’s Right\, not just at Lent this year – our All-U-Can-Eat Fish Fry & Roast Beef Dinners are back for July – Fridays 7/5 through 7/26 only! \nSpecial Featured Selections each week. Click here for more event information.
URL:https://geauganews.com/local-event/fish-fry-friday/
LOCATION:SunValley Party Center\, 10000 Edwards Rd\, Auburn Township\, 44023
END:VEVENT
BEGIN:VEVENT
DTSTART;TZID=America/New_York:20130712T170000
DTEND;TZID=America/New_York:20130712T200000
DTSTAMP:20260421T122804
CREATED:20130708T191711Z
LAST-MODIFIED:20130708T191711Z
UID:10000060-1373648400-1373659200@geauganews.com
SUMMARY:Fish Fry Friday in July
DESCRIPTION:That’s Right\, not just at Lent this year – our All-U-Can-Eat Fish Fry & Roast Beef Dinners are back for July – Fridays 7/5 through 7/26 only! \nClick here for more event information.
URL:https://geauganews.com/local-event/fish-fry-friday-in-july/
LOCATION:SunValley Party Center\, 10000 Edwards Rd\, Auburn Township\, 44023
END:VEVENT
END:VCALENDAR