BEGIN:VCALENDAR
VERSION:2.0
PRODID:-//Geauga News - ECPv6.15.20//NONSGML v1.0//EN
CALSCALE:GREGORIAN
METHOD:PUBLISH
X-ORIGINAL-URL:https://geauganews.com
X-WR-CALDESC:Events for Geauga News
REFRESH-INTERVAL;VALUE=DURATION:PT1H
X-Robots-Tag:noindex
X-PUBLISHED-TTL:PT1H
BEGIN:VTIMEZONE
TZID:America/New_York
BEGIN:DAYLIGHT
TZOFFSETFROM:-0500
TZOFFSETTO:-0400
TZNAME:EDT
DTSTART:20120311T070000
END:DAYLIGHT
BEGIN:STANDARD
TZOFFSETFROM:-0400
TZOFFSETTO:-0500
TZNAME:EST
DTSTART:20121104T060000
END:STANDARD
BEGIN:DAYLIGHT
TZOFFSETFROM:-0500
TZOFFSETTO:-0400
TZNAME:EDT
DTSTART:20130310T070000
END:DAYLIGHT
BEGIN:STANDARD
TZOFFSETFROM:-0400
TZOFFSETTO:-0500
TZNAME:EST
DTSTART:20131103T060000
END:STANDARD
BEGIN:DAYLIGHT
TZOFFSETFROM:-0500
TZOFFSETTO:-0400
TZNAME:EDT
DTSTART:20140309T070000
END:DAYLIGHT
BEGIN:STANDARD
TZOFFSETFROM:-0400
TZOFFSETTO:-0500
TZNAME:EST
DTSTART:20141102T060000
END:STANDARD
END:VTIMEZONE
BEGIN:VEVENT
DTSTART;TZID=America/New_York:20131020T130000
DTEND;TZID=America/New_York:20131020T163000
DTSTAMP:20260420T090730
CREATED:20131004T182534Z
LAST-MODIFIED:20131004T182534Z
UID:10000184-1382274000-1382286600@geauganews.com
SUMMARY:Jump on the Halloween Wagon!
DESCRIPTION:Traditional Halloween wagon rides return\nNo worries\, it’s not scary. We’re just serving a Halloween twist on some fun nature exploration. \nYou and your family are invited to get into the spooky spirit with a tractor-pulled wagon ride that focuses on outdoor creepy-crawlies. \nFree passes will be available on site to ensure first-come\, first-served boarding for the rides\, each about a half hour. Naturalist Linda Gilbert said guests will also see Halloween-themed skits performed by Park District volunteers. \n“Lots of families look forward to this every year\,” said Naturalist Linda Gilbert. “Only in the past few years have we tailored them for Halloween. The skits this year are Bloodsuckers\, Slime and Vultures. \n“It’s not scary – we just serve the Halloween twist on them. It’s fun!” \nCostumes are welcome\, and registration is not required for this free\, fit-for-all-ages program. Though not wheelchair / stroller accessible\, strollers and wheelchairs can be safely left at the trailhead so that all people can ride the wagons. No pets\, please. Rides last about a half hour and will be cancelled in case of bad weather. Call 440-286-9516 with questions. \nGeauga Park District is online\, Facebook\, Twitter and YouTube.
URL:https://geauganews.com/local-event/jump-on-the-halloween-wagon-2/
LOCATION:Swine Creek Reservation\, 16004 Hayes Rd\, Middlefield\, OH\, 44062\, United States
END:VEVENT
BEGIN:VEVENT
DTSTART;TZID=America/New_York:20131013T130000
DTEND;TZID=America/New_York:20131013T163000
DTSTAMP:20260420T090730
CREATED:20131004T182055Z
LAST-MODIFIED:20131004T182256Z
UID:10000183-1381669200-1381681800@geauganews.com
SUMMARY:Jump on the Halloween Wagon!
DESCRIPTION:Traditional Halloween wagon rides return\nNo worries\, it’s not scary. We’re just serving a Halloween twist on some fun nature exploration. \nYou and your family are invited to get into the spooky spirit with a tractor-pulled wagon ride that focuses on outdoor creepy-crawlies. \nFree passes will be available on site to ensure first-come\, first-served boarding for the rides\, each about a half hour. Naturalist Linda Gilbert said guests will also see Halloween-themed skits performed by Park District volunteers. \n“Lots of families look forward to this every year\,” said Naturalist Linda Gilbert. “Only in the past few years have we tailored them for Halloween. The skits this year are Bloodsuckers\, Slime and Vultures. \n“It’s not scary – we just serve the Halloween twist on them. It’s fun!” \nCostumes are welcome\, and registration is not required for this free\, fit-for-all-ages program. Though not wheelchair / stroller accessible\, strollers and wheelchairs can be safely left at the trailhead so that all people can ride the wagons. No pets\, please. Rides last about a half hour and will be cancelled in case of bad weather. Call 440-286-9516 with questions. \nGeauga Park District is online\, Facebook\, Twitter and YouTube.
URL:https://geauganews.com/local-event/jump-on-the-halloween-wagon/
LOCATION:Swine Creek Reservation\, 16004 Hayes Rd\, Middlefield\, OH\, 44062\, United States
END:VEVENT
END:VCALENDAR