BEGIN:VCALENDAR
VERSION:2.0
PRODID:-//Geauga News - ECPv6.15.20//NONSGML v1.0//EN
CALSCALE:GREGORIAN
METHOD:PUBLISH
X-ORIGINAL-URL:https://geauganews.com
X-WR-CALDESC:Events for Geauga News
REFRESH-INTERVAL;VALUE=DURATION:PT1H
X-Robots-Tag:noindex
X-PUBLISHED-TTL:PT1H
BEGIN:VTIMEZONE
TZID:America/New_York
BEGIN:DAYLIGHT
TZOFFSETFROM:-0500
TZOFFSETTO:-0400
TZNAME:EDT
DTSTART:20130310T070000
END:DAYLIGHT
BEGIN:STANDARD
TZOFFSETFROM:-0400
TZOFFSETTO:-0500
TZNAME:EST
DTSTART:20131103T060000
END:STANDARD
BEGIN:DAYLIGHT
TZOFFSETFROM:-0500
TZOFFSETTO:-0400
TZNAME:EDT
DTSTART:20140309T070000
END:DAYLIGHT
BEGIN:STANDARD
TZOFFSETFROM:-0400
TZOFFSETTO:-0500
TZNAME:EST
DTSTART:20141102T060000
END:STANDARD
BEGIN:DAYLIGHT
TZOFFSETFROM:-0500
TZOFFSETTO:-0400
TZNAME:EDT
DTSTART:20150308T070000
END:DAYLIGHT
BEGIN:STANDARD
TZOFFSETFROM:-0400
TZOFFSETTO:-0500
TZNAME:EST
DTSTART:20151101T060000
END:STANDARD
END:VTIMEZONE
BEGIN:VEVENT
DTSTART;TZID=America/New_York:20140713T120000
DTEND;TZID=America/New_York:20140713T153000
DTSTAMP:20260425T145843
CREATED:20140704T160147Z
LAST-MODIFIED:20140704T160147Z
UID:10000454-1405252800-1405265400@geauganews.com
SUMMARY:Burgers-n-Butterflies\, Dogs-n-Dragons
DESCRIPTION:Ever-popular butterfly\, dragonfly survey returns\nGrab a net and work for your lunch! As they have for many a year now\, Ohio Lepidopterists member Mark Rzeszotarski and naturalists want to lead you in an annual census while teaching identification\, habits and food sources of these amazing insects. \nOh\, and did we mention there’s a burger or hotdog lunch at stake? \nWhat: Burgers-n-Butterflies\, Dogs-n-Dragons \nWhen: Sunday\, July 13 – Noon to 3:30 p.m. \nWhere: Swine Creek Reservation\, Lake Side\n16004 Hayes Road\, Middlefield/Parkman Townships \nWe don’t even ask that you register – just show up if you’re feeling helpful and hungry\, and anyone who catches a butterfly or a dragonfly will be eligible for a free hamburger or hotdog. Nets will be provided\, but please bring your own sunscreen and wear long pants. \nRegistration is not required for this program\, which is suitable for all ages and partially wheelchair/stroller accessible. Call 440-286-9516 with questions. \nGeauga Park District is \, Facebook\, Twitter and YouTube.
URL:https://geauganews.com/local-event/burgers-n-butterflies-dogs-n-dragons-2/
LOCATION:Swine Creek Reservation\, 16004 Hayes Road\, Middlefield\, 44062
END:VEVENT
BEGIN:VEVENT
DTSTART;TZID=America/New_York:20140111T100000
DTEND;TZID=America/New_York:20140111T120000
DTSTAMP:20260425T145843
CREATED:20131226T211648Z
LAST-MODIFIED:20131226T211648Z
UID:10000265-1389434400-1389441600@geauganews.com
SUMMARY:Hawk Watch Wagon Ride
DESCRIPTION:…on this wagon ride to scope out birds of prey\nRegister today to enjoy a seven-mile\, open-air wagon trip up Hayes Road in search of Rough-legged\, Red-tailed and Cooper’s Hawks; harriers; kestrels; and other open-country birds of Amish farm country\, such as Horned Larks and Snow Buntings. \nWhat: Hawk Watch Wagon Ride \nWhen: Saturday\, January 11 – 10 a.m. to noon \nWhere: Swine Creek Reservation\, Lodge\n16004 Hayes Road\, Chester Township \nRegistration is required for this ride\, best suited for those school age and older\, or call 440-286-9516. \nDress for frigid temperatures; bring binoculars and blankets to bundle up in. The wagon is moderately accessible with low-tier seating for transferring from wheelchair to wagon. Please don’t hesitate to call with questions. \nGeauga Park District is online\, Facebook\, Twitter and YouTube.
URL:https://geauganews.com/local-event/hawk-watch-wagon-ride/
LOCATION:Swine Creek Reservation\, 16004 Hayes Road\, Middlefield\, 44062
END:VEVENT
END:VCALENDAR