BEGIN:VCALENDAR
VERSION:2.0
PRODID:-//Geauga News - ECPv6.15.20//NONSGML v1.0//EN
CALSCALE:GREGORIAN
METHOD:PUBLISH
X-ORIGINAL-URL:https://geauganews.com
X-WR-CALDESC:Events for Geauga News
REFRESH-INTERVAL;VALUE=DURATION:PT1H
X-Robots-Tag:noindex
X-PUBLISHED-TTL:PT1H
BEGIN:VTIMEZONE
TZID:America/New_York
BEGIN:DAYLIGHT
TZOFFSETFROM:-0500
TZOFFSETTO:-0400
TZNAME:EDT
DTSTART:20120311T070000
END:DAYLIGHT
BEGIN:STANDARD
TZOFFSETFROM:-0400
TZOFFSETTO:-0500
TZNAME:EST
DTSTART:20121104T060000
END:STANDARD
BEGIN:DAYLIGHT
TZOFFSETFROM:-0500
TZOFFSETTO:-0400
TZNAME:EDT
DTSTART:20130310T070000
END:DAYLIGHT
BEGIN:STANDARD
TZOFFSETFROM:-0400
TZOFFSETTO:-0500
TZNAME:EST
DTSTART:20131103T060000
END:STANDARD
BEGIN:DAYLIGHT
TZOFFSETFROM:-0500
TZOFFSETTO:-0400
TZNAME:EDT
DTSTART:20140309T070000
END:DAYLIGHT
BEGIN:STANDARD
TZOFFSETFROM:-0400
TZOFFSETTO:-0500
TZNAME:EST
DTSTART:20141102T060000
END:STANDARD
END:VTIMEZONE
BEGIN:VEVENT
DTSTART;VALUE=DATE:20131207
DTEND;VALUE=DATE:20131209
DTSTAMP:20260422T193059
CREATED:20131025T144038Z
LAST-MODIFIED:20131025T144038Z
UID:10000219-1386374400-1386547199@geauganews.com
SUMMARY:DIY Fresh Greens Workshops for Adults and Tots
DESCRIPTION:Choose from four beautiful fresh evergreen arrangements\nDecking your halls always makes the holiday season come alive – but wouldn’t it be best if you could make your own decorations? Join Geauga Park District for its popular Holiday Greens Workshop to arrange fresh evergreens into one of four holiday arrangements…and don’t delay in signing up\, as these workshops have filled up fast at least four years in a row! \nWhat: Holiday Greens Workshop \nWhen: Saturday\, December 7 – 9 a.m. to noon or 1 to 4 p.m. \nWhere: Swine Creek Reservation\, Lodge\n16004 Hayes Road\, Middlefield \nUpon registration – required online or by calling 440-286-9516 – you will be asked to select one of the following projects: wreath\, bronze candle holder\, 12-inch black wrought iron lantern\, or mantelpiece with candles. Drawings of all four options can be seen on the Bulletin Board. \n \nVarious evergreens\, pine cones and ribbons will be provided\, but you may also bring your own accents – after all\, this is your project to keep! \nAn $18 fee will be required upon registration\, and $5 will be due to the instructor at the program. You may also want to bring pruners and a plastic bag to protect your car seat from water. This wheelchair / stroller accessible workshop is suitable for ages 12 and up. \nFor those littler artists ages 3 to 5\, naturalists will also host a pint-sized\, educational version. \nWhat: Timbertots: Holiday Greens \nWhen: Saturday\, December 8 – 2 to 3 p.m. and\nSunday\, December 9 – 10 to 11 a.m. or 1 to 2 p.m. \nWhere: Swine Creek Reservation\, Lodge\n16004 Hayes Road\, Middlefield \nWith an adult\, kids will discover what’s cool about pine trees and other evergreens and make their own fun centerpiece to take home. Bows and pine cones will be provided\, but kids may also bring small decorations if they’d like. \nRegistration is required for Timbertots\, too\, or 440-286-9516. But unlike the adult version\, this program will be indoors and out\, so please dress the little ones for the weather. \nGeauga Park District is online\, Facebook\, Twitter and YouTube.
URL:https://geauganews.com/local-event/diy-fresh-greens-workshops-for-adults-and-tots/
LOCATION:Swine Creek Reservation\, Lodge\, 16004 Hayes Road\, Middlefield\, OH\, 44062\, United States
END:VEVENT
END:VCALENDAR