BEGIN:VCALENDAR
VERSION:2.0
PRODID:-//Geauga News - ECPv6.15.20//NONSGML v1.0//EN
CALSCALE:GREGORIAN
METHOD:PUBLISH
X-WR-CALNAME:Geauga News
X-ORIGINAL-URL:https://geauganews.com
X-WR-CALDESC:Events for Geauga News
REFRESH-INTERVAL;VALUE=DURATION:PT1H
X-Robots-Tag:noindex
X-PUBLISHED-TTL:PT1H
BEGIN:VTIMEZONE
TZID:America/New_York
BEGIN:DAYLIGHT
TZOFFSETFROM:-0500
TZOFFSETTO:-0400
TZNAME:EDT
DTSTART:20130310T070000
END:DAYLIGHT
BEGIN:STANDARD
TZOFFSETFROM:-0400
TZOFFSETTO:-0500
TZNAME:EST
DTSTART:20131103T060000
END:STANDARD
BEGIN:DAYLIGHT
TZOFFSETFROM:-0500
TZOFFSETTO:-0400
TZNAME:EDT
DTSTART:20140309T070000
END:DAYLIGHT
BEGIN:STANDARD
TZOFFSETFROM:-0400
TZOFFSETTO:-0500
TZNAME:EST
DTSTART:20141102T060000
END:STANDARD
BEGIN:DAYLIGHT
TZOFFSETFROM:-0500
TZOFFSETTO:-0400
TZNAME:EDT
DTSTART:20150308T070000
END:DAYLIGHT
BEGIN:STANDARD
TZOFFSETFROM:-0400
TZOFFSETTO:-0500
TZNAME:EST
DTSTART:20151101T060000
END:STANDARD
END:VTIMEZONE
BEGIN:VTIMEZONE
TZID:UTC
BEGIN:STANDARD
TZOFFSETFROM:+0000
TZOFFSETTO:+0000
TZNAME:UTC
DTSTART:20120101T000000
END:STANDARD
END:VTIMEZONE
BEGIN:VEVENT
DTSTART;TZID=America/New_York:20141101T070000
DTEND;TZID=America/New_York:20141101T160000
DTSTAMP:20260422T193007
CREATED:20141007T201518Z
LAST-MODIFIED:20141007T201518Z
UID:10000556-1414825200-1414857600@geauganews.com
SUMMARY:Annual Quilt and Craft Auction
DESCRIPTION:Experience the excitement of an old-fashioned Amish Quilt and Craft Auction on Saturday\, November 1\, 2014 from 10 a.m. to 4 p.m. \nat the Metzenbaum Center\, located at 8200 Cedar Road\, in Chesterland. Early risers may also enjoy a hearty all-you-can-eat pancake breakfast\, complete with Geauga County’s rich maple syrup from 8 a.m. to 10 a.m.Admission and parking to the auction are FREE. The pancake breakfast will cost $7 for adults\, $4 for children 3 to 12\, and children 2 and under are free\, payable at the door. \nGuests at the Quilt & Craft Auction will have an opportunity to bid on more than 25 hand-made Amish quilts\, Amish hand-made wood furniture\, crafts and much more. A silent auction\, Chinese raffle\, huge Amish bakery\, and cash & carry Holiday Shop will round out the day’s activities. \n“There are always hundreds of items to bid on at our Silent Auction and Chinese Raffles held in the halls of the Metzenbaum Center and beautiful handmade items in the live auction\,” says Patti Gallagher\, chairperson of the Metzenbaum Quilt & Craft Auction.” Again this year will be Two (2) 50/50 drawings at 12:30 and also at the end of the live auction. \nSponsored by Families and Friends of the Metzenbaum Center\, proceeds will go to support the children and adults with developmental disabilities served by the Geauga County Board of Developmental Disabilities. In the past\, money raised by the Quilt & Craft Auction has been used to fund Therapeutic Riding Programs\, Special Olympics\, summer camps\, dances\, Christmas program\, summer picnics\, Family Resource program\, Enrichment program\, Senior Prom and class trips\, and other special events. \nFor more information\, please contact Patti Gallagher at (440) 834-9658.
URL:https://geauganews.com/local-event/annual-quilt-and-craft-auction/
LOCATION:The Metzenbaum Center\, 8200 Cedar Road\, Chesterland
END:VEVENT
BEGIN:VEVENT
DTSTART;TZID=UTC:20130621T100000
DTEND;TZID=UTC:20130621T120000
DTSTAMP:20260422T193007
CREATED:20130603T160727Z
LAST-MODIFIED:20130603T160810Z
UID:10000044-1371808800-1371816000@geauganews.com
SUMMARY:Annual Children's Clothing and Toy Giveaway
DESCRIPTION:The Geauga County Help Me Grow Program is holding its annual children’s clothing and toy giveaway on Friday\, June 21\, at The Metzenbaum Center\, 8200 Cedar Road. All Geauga families are invited to attend this free event between 10 a.m. and 12 p.m. \nWe will be accepting donations of gently used children’s clothing and toys from June 17 through June 19. \nClick here for more information….
URL:https://geauganews.com/local-event/annual-childrens-clothing-and-toy-giveaway/
LOCATION:The Metzenbaum Center\, 8200 Cedar Road\, Chesterland
END:VEVENT
END:VCALENDAR