BEGIN:VCALENDAR
VERSION:2.0
PRODID:-//Geauga News - ECPv6.15.20//NONSGML v1.0//EN
CALSCALE:GREGORIAN
METHOD:PUBLISH
X-ORIGINAL-URL:https://geauganews.com
X-WR-CALDESC:Events for Geauga News
REFRESH-INTERVAL;VALUE=DURATION:PT1H
X-Robots-Tag:noindex
X-PUBLISHED-TTL:PT1H
BEGIN:VTIMEZONE
TZID:America/New_York
BEGIN:DAYLIGHT
TZOFFSETFROM:-0500
TZOFFSETTO:-0400
TZNAME:EDT
DTSTART:20120311T070000
END:DAYLIGHT
BEGIN:STANDARD
TZOFFSETFROM:-0400
TZOFFSETTO:-0500
TZNAME:EST
DTSTART:20121104T060000
END:STANDARD
BEGIN:DAYLIGHT
TZOFFSETFROM:-0500
TZOFFSETTO:-0400
TZNAME:EDT
DTSTART:20130310T070000
END:DAYLIGHT
BEGIN:STANDARD
TZOFFSETFROM:-0400
TZOFFSETTO:-0500
TZNAME:EST
DTSTART:20131103T060000
END:STANDARD
BEGIN:DAYLIGHT
TZOFFSETFROM:-0500
TZOFFSETTO:-0400
TZNAME:EDT
DTSTART:20140309T070000
END:DAYLIGHT
BEGIN:STANDARD
TZOFFSETFROM:-0400
TZOFFSETTO:-0500
TZNAME:EST
DTSTART:20141102T060000
END:STANDARD
BEGIN:DAYLIGHT
TZOFFSETFROM:-0500
TZOFFSETTO:-0400
TZNAME:EDT
DTSTART:20150308T070000
END:DAYLIGHT
BEGIN:STANDARD
TZOFFSETFROM:-0400
TZOFFSETTO:-0500
TZNAME:EST
DTSTART:20151101T060000
END:STANDARD
END:VTIMEZONE
BEGIN:VEVENT
DTSTART;TZID=America/New_York:20141102T153000
DTEND;TZID=America/New_York:20141102T173000
DTSTAMP:20260422T164402
CREATED:20141024T203919Z
LAST-MODIFIED:20141024T203919Z
UID:10000574-1414942200-1414949400@geauganews.com
SUMMARY:Backcountry Heron Hike
DESCRIPTION:Explore The Rookery’s namesake backcountry-style \nAn opportunity to visit a rarely explored area of your Geauga Park District is slated for early November\, but registration is required so don’t wait to sign up. \n \nWhat: Backcountry Heron Hike \nWhen: Sunday\, November 2 – 3:30 to 5:30 p.m. \nWhere: The Rookery\, 10110 Cedar Road\, Munson Twp. \nTucked back off trail at The Rookery\, there’s a treetop colony that gives the park its name. \n \nThis is your annual chance to see one of the largest Great Blue Heron rookeries in the county\, accessible only during naturalist-led programs in the autumn while the herons winter down south. \nAccording to historic accounts\, this rookery has existed for at least 70 years in its present location. The backcountry hike includes a short introduction to the Blue Heron\, acquainting you with this species’ habitat and food using pictures and props\, then a 1 1/2-to-2-mile hike to visit the nesting site. \nYou’ll be amazed that these big stick nests manage to stay up there\, way up on the top little branches of the trees! \nAgain\, registration is required at the website or 440-286-9516. School age and up recommended. Only the beginning portion of the hike is wheelchair/stroller accessible. Call 440-286-9516 with questions. \nGeauga Park District is online\, Facebook\, Twitter and YouTube.
URL:https://geauganews.com/local-event/backcountry-heron-hike-2/
LOCATION:The Rookery\, 10110 Cedar Road\, Munson\, OH\, United States
END:VEVENT
BEGIN:VEVENT
DTSTART;TZID=America/New_York:20141024T193000
DTEND;TZID=America/New_York:20141024T210000
DTSTAMP:20260422T164402
CREATED:20141010T195448Z
LAST-MODIFIED:20141010T195448Z
UID:10000563-1414179000-1414184400@geauganews.com
SUMMARY:Twilight Trolley: Ghosts of the C&E Interurban
DESCRIPTION:Explore the rail beds with Sparky Wier and Rita Railbane \nGoing back in time is always thrilling. But add some big personalities from that classic era\, the era of the railways in Geauga County\, and you’re in for a real treat. \nJust one week before the spookiest day of the year\, at dusk\, walk the real-life rail beds of ole as two gadabout ghosts regale you on the Cleveland & Eastern Interurban electric-powered railway. \n \nWhat: Twilight Trolley: Ghosts of the C&E Interurban \nWhen: Friday\, October 24 – 7:30 to 9:30 p.m. \nWhere: The Rookery\, Great Blue Heron Lodge\, 10110 Cedar Road\, Munson Twp. \nThe two will be something to behold – and give you a real sense of the invention of transportation by rail. \nWhile jolly trolley conductor Sparky Wier recalls the good old trolley days\, crabby rider Rita Railbane will counter with retorts: safety measures vs. mishaps and derailments; luxury vs. long layovers; stark station conditions vs. comfortable accommodations. And while Sparky effuses about the unsurpassed efficiency of a smooth 75-minute trip from Chardon to downtown Cleveland in the days of the horse and buggy\, Rita will whine about the rough ride. Because\, as you know\, there’s one in every crowd. \nThe C&E trolley line rolled out of Cleveland and traversed Geauga County from 1900-1925. Registration is not required for this program\, best suited for those school age and older. Call 440-286-9516 with questions. \nGeauga Park District is online\, Facebook\, Twitter and YouTube. \nSee our event calendar for upcoming programs with the Geauga Park District. \n 
URL:https://geauganews.com/local-event/twilight-trolley-ghosts-of-the-ce-interurban/
LOCATION:The Rookery\, 10110 Cedar Road\, Munson\, OH\, United States
END:VEVENT
BEGIN:VEVENT
DTSTART;TZID=America/New_York:20130715T183000
DTEND;TZID=America/New_York:20130715T200000
DTSTAMP:20260422T164402
CREATED:20130709T171522Z
LAST-MODIFIED:20130709T171522Z
UID:10000063-1373913000-1373918400@geauganews.com
SUMMARY:Hound Hike
DESCRIPTION:Plenty of tails will be wagging as you and your canine companion hike and pause to take in Geauga’s finest parks; pooches will also enjoy cooling their paws in the streams. \nNo bones about it – a good time will be had by all. \nRegistration is required for these all-ages programs online or by calling 440-286-9516. Please bring your own dog towels\, water bowl\, poop scoop and bags for clean-up. Only one non-aggressive dog per handler\, who must be able to fully control dog on leash at all times (8 ft. max). \nClick here for more event information.
URL:https://geauganews.com/local-event/hound-hike/
LOCATION:The Rookery\, 10110 Cedar Road\, Munson\, OH\, United States
END:VEVENT
END:VCALENDAR