BEGIN:VCALENDAR
VERSION:2.0
PRODID:-//Geauga News - ECPv6.15.20//NONSGML v1.0//EN
CALSCALE:GREGORIAN
METHOD:PUBLISH
X-WR-CALNAME:Geauga News
X-ORIGINAL-URL:https://geauganews.com
X-WR-CALDESC:Events for Geauga News
REFRESH-INTERVAL;VALUE=DURATION:PT1H
X-Robots-Tag:noindex
X-PUBLISHED-TTL:PT1H
BEGIN:VTIMEZONE
TZID:America/New_York
BEGIN:DAYLIGHT
TZOFFSETFROM:-0500
TZOFFSETTO:-0400
TZNAME:EDT
DTSTART:20120311T070000
END:DAYLIGHT
BEGIN:STANDARD
TZOFFSETFROM:-0400
TZOFFSETTO:-0500
TZNAME:EST
DTSTART:20121104T060000
END:STANDARD
BEGIN:DAYLIGHT
TZOFFSETFROM:-0500
TZOFFSETTO:-0400
TZNAME:EDT
DTSTART:20130310T070000
END:DAYLIGHT
BEGIN:STANDARD
TZOFFSETFROM:-0400
TZOFFSETTO:-0500
TZNAME:EST
DTSTART:20131103T060000
END:STANDARD
BEGIN:DAYLIGHT
TZOFFSETFROM:-0500
TZOFFSETTO:-0400
TZNAME:EDT
DTSTART:20140309T070000
END:DAYLIGHT
BEGIN:STANDARD
TZOFFSETFROM:-0400
TZOFFSETTO:-0500
TZNAME:EST
DTSTART:20141102T060000
END:STANDARD
END:VTIMEZONE
BEGIN:VEVENT
DTSTART;TZID=America/New_York:20131120T183000
DTEND;TZID=America/New_York:20131120T203000
DTSTAMP:20260422T174406
CREATED:20131007T145531Z
LAST-MODIFIED:20131007T145531Z
UID:10000187-1384972200-1384979400@geauganews.com
SUMMARY:Quilted Fabric Ornament Workshop
DESCRIPTION:Those ages 18 and older are invited to join artisan Angela Giaimo to create a unique quilted fabric ornament at her Quilted Fabric Ornament Workshop at The West Woods Nature Center in Russell Township. \nParticipation in her workshop\, from 6:30 to 8:30 p.m.\, costs $14 for materials and instruction. Giaimo stresses that these beautiful ornaments\, one of which won her a blue ribbon at The Great Geauga County Fair this year\, require absolutely no sewing to create – which is hard to believe looking at them. See a sample on Geauga Park District’s Facebook page. \n“I have taught this craft to many people\,” she said\, “and it has been my experience that art of any kind will always look unique. Each student will be using different fabrics\, so each ornament will look different.”  \n“I feel strongly about building up each student to be the best of themselves that they can be.” \nRegistration is required for this workshop online or by calling 440-286-9516. The facility are fully wheelchair/stroller accessible. \nGeauga Park District is online\, Facebook\, Twitter and YouTube.
URL:https://geauganews.com/local-event/quilted-fabric-ornament-workshop/
LOCATION:The West Woods\, Russell Township
END:VEVENT
END:VCALENDAR