BEGIN:VCALENDAR
VERSION:2.0
PRODID:-//Geauga News - ECPv6.15.20//NONSGML v1.0//EN
CALSCALE:GREGORIAN
METHOD:PUBLISH
X-WR-CALNAME:Geauga News
X-ORIGINAL-URL:https://geauganews.com
X-WR-CALDESC:Events for Geauga News
REFRESH-INTERVAL;VALUE=DURATION:PT1H
X-Robots-Tag:noindex
X-PUBLISHED-TTL:PT1H
BEGIN:VTIMEZONE
TZID:America/New_York
BEGIN:DAYLIGHT
TZOFFSETFROM:-0500
TZOFFSETTO:-0400
TZNAME:EDT
DTSTART:20130310T070000
END:DAYLIGHT
BEGIN:STANDARD
TZOFFSETFROM:-0400
TZOFFSETTO:-0500
TZNAME:EST
DTSTART:20131103T060000
END:STANDARD
BEGIN:DAYLIGHT
TZOFFSETFROM:-0500
TZOFFSETTO:-0400
TZNAME:EDT
DTSTART:20140309T070000
END:DAYLIGHT
BEGIN:STANDARD
TZOFFSETFROM:-0400
TZOFFSETTO:-0500
TZNAME:EST
DTSTART:20141102T060000
END:STANDARD
BEGIN:DAYLIGHT
TZOFFSETFROM:-0500
TZOFFSETTO:-0400
TZNAME:EDT
DTSTART:20150308T070000
END:DAYLIGHT
BEGIN:STANDARD
TZOFFSETFROM:-0400
TZOFFSETTO:-0500
TZNAME:EST
DTSTART:20151101T060000
END:STANDARD
END:VTIMEZONE
BEGIN:VEVENT
DTSTART;TZID=America/New_York:20140529T190000
DTEND;TZID=America/New_York:20140529T203000
DTSTAMP:20260425T222153
CREATED:20140522T155443Z
LAST-MODIFIED:20140522T155443Z
UID:10000384-1401390000-1401395400@geauganews.com
SUMMARY:Why'd the Turtle Cross the Road?
DESCRIPTION:Learn why springtime is prime time for turtle crossings\nLate spring is turtles-in-the-road time. That’s because hen turtles are ranging sometimes far from water to find a sunny spot with soft soil to lay eggs. \nFind out more about these annual “eggs-cursions” and learn Geauga County’s various turtles species at this upcoming program with Senior Naturalist Dan Best. \nWhat: Why’d the Turtle Cross the Road? \nWhen: Thursday\, May 29 – 7 to 8:30 p.m. \nWhere:\n9465 Kinsman Road (Route 87)\, Russell Township \nIn addition to classroom time\, hopes are to stage a turtle race so the reptiles themselves can demonstrate their range (and speed) of movement\, Dan says. \nRegistration is not required for this program\, which is wheelchair/stroller accessible. Call 440-286-9516 with questions.
URL:https://geauganews.com/local-event/whyd-the-turtle-cross-the-road/
LOCATION:The West Woods\, 9465 Kinsman Rd\, Russell Township\, OH\, 44072\, United States
GEO:41.458335;-81.307086
X-APPLE-STRUCTURED-LOCATION;VALUE=URI;X-ADDRESS=The West Woods 9465 Kinsman Rd Russell Township OH 44072 United States;X-APPLE-RADIUS=500;X-TITLE=9465 Kinsman Rd:geo:-81.307086,41.458335
END:VEVENT
BEGIN:VEVENT
DTSTART;TZID=America/New_York:20140524T203000
DTEND;TZID=America/New_York:20140524T220000
DTSTAMP:20260425T222153
CREATED:20140509T140622Z
LAST-MODIFIED:20140509T140622Z
UID:10000376-1400963400-1400968800@geauganews.com
SUMMARY:A Trilling Experience with Treefrogs
DESCRIPTION:Bring a flashlight and witness the breeding phenomenon of Gray Treefrogs and encounter other amphibians in woodland pools\, rain or shine.
URL:https://geauganews.com/local-event/a-trilling-experience-with-treefrogs/
LOCATION:The West Woods\, 9465 Kinsman Rd\, Russell Township\, OH\, 44072\, United States
GEO:41.458335;-81.307086
X-APPLE-STRUCTURED-LOCATION;VALUE=URI;X-ADDRESS=The West Woods 9465 Kinsman Rd Russell Township OH 44072 United States;X-APPLE-RADIUS=500;X-TITLE=9465 Kinsman Rd:geo:-81.307086,41.458335
END:VEVENT
BEGIN:VEVENT
DTSTART;TZID=America/New_York:20140516T183000
DTEND;TZID=America/New_York:20140516T200000
DTSTAMP:20260425T222153
CREATED:20140501T154255Z
LAST-MODIFIED:20140501T154255Z
UID:10000375-1400265000-1400270400@geauganews.com
SUMMARY:Incredible Backyard Edibles
DESCRIPTION:So what in the yard can be eaten? \nLearn from Chef Kimberly McCune Gibson how to harvest\, prep and enjoy backyard edibles…and you thought dandelions were a weed! \nWhat: Incredible Backyard Edibles \nWhen: Friday\, May 16 – 6:30 to 8 p.m. \nWhere: The West Woods Nature Center\n9465 Kinsman Road (Route 87)\, Russell Township \nChef Kimberly’s roots are planted deeply in the memory of her Geauga County childhood where her parents established early\, lasting\, and intertwining beliefs in the nature of food and community. Daughter of a beekeeper\, she witnessed firsthand the interdependence of the land and its people when she visited the Amish farmers who leased beehives for orchard pollination. \n \nAs a student at Auburn Career Center\, Chef Kimberly was supported by the community with scholarships that allowed her to train in classical European cuisine at the CIA in Hyde Park\, New York. Grateful for this and respectful of fresh local products\, she has gained a pointed urgency to give something back. She now champions the “Farmer to Restaurant” and “Pasture to Plate” causes\, and is a strong supporter of independent restaurant operators everywhere. \nA former contestant on the Food Network’s Fat Chef\, Chef Kimberly represents First Lady Michele Obama’s “Let’s Move” Initiative by serving as ambassador for the “Chef’s Move into Schools” Program for Chagrin Falls Schools. Her Hungry Bee business specializes in catering\, cooking classes\, and personal chef services\, and her ReHive Ale has also become a passion which links her childhood beekeeping hobby to her growing business. \nThis program is intended for adults\, and is wheelchair/stroller accessible. Registration is not required. Learn more about Kimberly online. Call 440-286-9516 with questions.
URL:https://geauganews.com/local-event/incredible-backyard-edibles/
LOCATION:The West Woods\, 9465 Kinsman Rd\, Russell Township\, OH\, 44072\, United States
GEO:41.458335;-81.307086
X-APPLE-STRUCTURED-LOCATION;VALUE=URI;X-ADDRESS=The West Woods 9465 Kinsman Rd Russell Township OH 44072 United States;X-APPLE-RADIUS=500;X-TITLE=9465 Kinsman Rd:geo:-81.307086,41.458335
END:VEVENT
END:VCALENDAR