BEGIN:VCALENDAR
VERSION:2.0
PRODID:-//Geauga News - ECPv6.15.20//NONSGML v1.0//EN
CALSCALE:GREGORIAN
METHOD:PUBLISH
X-ORIGINAL-URL:https://geauganews.com
X-WR-CALDESC:Events for Geauga News
REFRESH-INTERVAL;VALUE=DURATION:PT1H
X-Robots-Tag:noindex
X-PUBLISHED-TTL:PT1H
BEGIN:VTIMEZONE
TZID:America/New_York
BEGIN:DAYLIGHT
TZOFFSETFROM:-0500
TZOFFSETTO:-0400
TZNAME:EDT
DTSTART:20120311T070000
END:DAYLIGHT
BEGIN:STANDARD
TZOFFSETFROM:-0400
TZOFFSETTO:-0500
TZNAME:EST
DTSTART:20121104T060000
END:STANDARD
BEGIN:DAYLIGHT
TZOFFSETFROM:-0500
TZOFFSETTO:-0400
TZNAME:EDT
DTSTART:20130310T070000
END:DAYLIGHT
BEGIN:STANDARD
TZOFFSETFROM:-0400
TZOFFSETTO:-0500
TZNAME:EST
DTSTART:20131103T060000
END:STANDARD
BEGIN:DAYLIGHT
TZOFFSETFROM:-0500
TZOFFSETTO:-0400
TZNAME:EDT
DTSTART:20140309T070000
END:DAYLIGHT
BEGIN:STANDARD
TZOFFSETFROM:-0400
TZOFFSETTO:-0500
TZNAME:EST
DTSTART:20141102T060000
END:STANDARD
BEGIN:DAYLIGHT
TZOFFSETFROM:-0500
TZOFFSETTO:-0400
TZNAME:EDT
DTSTART:20150308T070000
END:DAYLIGHT
BEGIN:STANDARD
TZOFFSETFROM:-0400
TZOFFSETTO:-0500
TZNAME:EST
DTSTART:20151101T060000
END:STANDARD
BEGIN:DAYLIGHT
TZOFFSETFROM:-0500
TZOFFSETTO:-0400
TZNAME:EDT
DTSTART:20160313T070000
END:DAYLIGHT
BEGIN:STANDARD
TZOFFSETFROM:-0400
TZOFFSETTO:-0500
TZNAME:EST
DTSTART:20161106T060000
END:STANDARD
BEGIN:DAYLIGHT
TZOFFSETFROM:-0500
TZOFFSETTO:-0400
TZNAME:EDT
DTSTART:20170312T070000
END:DAYLIGHT
BEGIN:STANDARD
TZOFFSETFROM:-0400
TZOFFSETTO:-0500
TZNAME:EST
DTSTART:20171105T060000
END:STANDARD
BEGIN:DAYLIGHT
TZOFFSETFROM:-0500
TZOFFSETTO:-0400
TZNAME:EDT
DTSTART:20180311T070000
END:DAYLIGHT
BEGIN:STANDARD
TZOFFSETFROM:-0400
TZOFFSETTO:-0500
TZNAME:EST
DTSTART:20181104T060000
END:STANDARD
BEGIN:DAYLIGHT
TZOFFSETFROM:-0500
TZOFFSETTO:-0400
TZNAME:EDT
DTSTART:20190310T070000
END:DAYLIGHT
BEGIN:STANDARD
TZOFFSETFROM:-0400
TZOFFSETTO:-0500
TZNAME:EST
DTSTART:20191103T060000
END:STANDARD
BEGIN:DAYLIGHT
TZOFFSETFROM:-0500
TZOFFSETTO:-0400
TZNAME:EDT
DTSTART:20200308T070000
END:DAYLIGHT
BEGIN:STANDARD
TZOFFSETFROM:-0400
TZOFFSETTO:-0500
TZNAME:EST
DTSTART:20201101T060000
END:STANDARD
BEGIN:DAYLIGHT
TZOFFSETFROM:-0500
TZOFFSETTO:-0400
TZNAME:EDT
DTSTART:20210314T070000
END:DAYLIGHT
BEGIN:STANDARD
TZOFFSETFROM:-0400
TZOFFSETTO:-0500
TZNAME:EST
DTSTART:20211107T060000
END:STANDARD
BEGIN:DAYLIGHT
TZOFFSETFROM:-0500
TZOFFSETTO:-0400
TZNAME:EDT
DTSTART:20220313T070000
END:DAYLIGHT
BEGIN:STANDARD
TZOFFSETFROM:-0400
TZOFFSETTO:-0500
TZNAME:EST
DTSTART:20221106T060000
END:STANDARD
END:VTIMEZONE
BEGIN:VEVENT
DTSTART;TZID=America/New_York:20211116T190000
DTEND;TZID=America/New_York:20211116T190000
DTSTAMP:20260422T113429
CREATED:20211108T180223Z
LAST-MODIFIED:20211108T180246Z
UID:10001511-1637089200-1637089200@geauganews.com
SUMMARY:Audubon highlights bird migration and Motus tracking - In Person OR Virtual Presentation
DESCRIPTION:As fall migration winds down\, Blackbrook Audubon invites everyone to hear “Monitoring Bird Migration: Evolving Technologies and Remarkable Discoveries” by Dr. Andy Jones of the Cleveland Museum of Natural History. This free presentation will be 7:00 p.m. Tuesday\, November 16 at Geauga Park District’s The West Woods Nature Center. \nBanding birds and reporting sightings on eBird continue to help in understanding bird migration\, but the array of technologies available to ornithologists is constantly changing. New tools both large and tiny are giving fresh insights into individual birds’ migratory behaviors. Dr. Jones will go over several of these newer systems\, including the current status of the Motus network. The northeast corner of Ohio has a gap on the Motus map and Blackbrook Audubon is looking into filling that void. \nParticipants can attend the program in person or register on the event page of blackbrookaudubon.org to receive a link to view the program live online. While the program starts at 7:00 p.m.\, Trevor Wearstler\, the host and president of Blackbrook\, will open access to the meeting about 6:30 p.m. so people can familiarize themselves with the software features or chat with other attendees. Refreshments will not be served at the in-person program\, which will be at 9465 Kinsman Road\, Rt. 87 in Russell. \nBlackbrook Audubon covers Ashtabula\, Geauga and Lake Counties as the local chapter of National Audubon Society. For more information\, email blackbrookaud@aol.com. Follow Blackbrook Audubon Society on Facebook for updates. \n\nT
URL:https://geauganews.com/local-event/audubon-highlights-bird-migration-and-motus-tracking-in-person-or-virtual-presentation/
LOCATION:The West Woods Nature Center\, 9465 Kinsman Road (Route 87)\, Russell Township
CATEGORIES:Blackbrook Audubon,Virtual
END:VEVENT
BEGIN:VEVENT
DTSTART;TZID=America/New_York:20130531T190000
DTEND;TZID=America/New_York:20130531T210000
DTSTAMP:20260422T113429
CREATED:20130516T165306Z
LAST-MODIFIED:20130516T165306Z
UID:10000012-1370026800-1370034000@geauganews.com
SUMMARY:Nature Writers' Coffee House and Winners
DESCRIPTION:Anyone who enjoys nature-inspired composition\, coffee\, and other refreshments won’t want to miss the 18th annual Nature Writers’ Coffee House – a chance to enjoy all three in the tranquil setting of The West Woods Nature Center.
URL:https://geauganews.com/local-event/nature-writers-coffee-house-and-winners/
LOCATION:The West Woods Nature Center\, 9465 Kinsman Road (Route 87)\, Russell Township
END:VEVENT
END:VCALENDAR