BEGIN:VCALENDAR
VERSION:2.0
PRODID:-//Geauga News - ECPv6.15.20//NONSGML v1.0//EN
CALSCALE:GREGORIAN
METHOD:PUBLISH
X-WR-CALNAME:Geauga News
X-ORIGINAL-URL:https://geauganews.com
X-WR-CALDESC:Events for Geauga News
REFRESH-INTERVAL;VALUE=DURATION:PT1H
X-Robots-Tag:noindex
X-PUBLISHED-TTL:PT1H
BEGIN:VTIMEZONE
TZID:America/New_York
BEGIN:DAYLIGHT
TZOFFSETFROM:-0500
TZOFFSETTO:-0400
TZNAME:EDT
DTSTART:20150308T070000
END:DAYLIGHT
BEGIN:STANDARD
TZOFFSETFROM:-0400
TZOFFSETTO:-0500
TZNAME:EST
DTSTART:20151101T060000
END:STANDARD
BEGIN:DAYLIGHT
TZOFFSETFROM:-0500
TZOFFSETTO:-0400
TZNAME:EDT
DTSTART:20160313T070000
END:DAYLIGHT
BEGIN:STANDARD
TZOFFSETFROM:-0400
TZOFFSETTO:-0500
TZNAME:EST
DTSTART:20161106T060000
END:STANDARD
BEGIN:DAYLIGHT
TZOFFSETFROM:-0500
TZOFFSETTO:-0400
TZNAME:EDT
DTSTART:20170312T070000
END:DAYLIGHT
BEGIN:STANDARD
TZOFFSETFROM:-0400
TZOFFSETTO:-0500
TZNAME:EST
DTSTART:20171105T060000
END:STANDARD
BEGIN:DAYLIGHT
TZOFFSETFROM:-0500
TZOFFSETTO:-0400
TZNAME:EDT
DTSTART:20180311T070000
END:DAYLIGHT
BEGIN:STANDARD
TZOFFSETFROM:-0400
TZOFFSETTO:-0500
TZNAME:EST
DTSTART:20181104T060000
END:STANDARD
BEGIN:DAYLIGHT
TZOFFSETFROM:-0500
TZOFFSETTO:-0400
TZNAME:EDT
DTSTART:20190310T070000
END:DAYLIGHT
BEGIN:STANDARD
TZOFFSETFROM:-0400
TZOFFSETTO:-0500
TZNAME:EST
DTSTART:20191103T060000
END:STANDARD
END:VTIMEZONE
BEGIN:VTIMEZONE
TZID:UTC
BEGIN:STANDARD
TZOFFSETFROM:+0000
TZOFFSETTO:+0000
TZNAME:UTC
DTSTART:20120101T000000
END:STANDARD
END:VTIMEZONE
BEGIN:VEVENT
DTSTART;TZID=America/New_York:20181102T200000
DTEND;TZID=America/New_York:20181102T233000
DTSTAMP:20260422T203540
CREATED:20181016T202126Z
LAST-MODIFIED:20181016T202126Z
UID:10000778-1541188800-1541201400@geauganews.com
SUMMARY:Blue Lunch Plays Live at the Bainbridge Swing Dance on November 2
DESCRIPTION:Blue Lunch is playing live at the Bainbridge Swing Dance Friday\, November 2nd at Timmons Elementary School Gymnasium\, 9595 East Washington St.\, Chagrin Falls\, OH 44023. \nBlue Lunch is a late 1940’s and early 1950’s band featuring a three piece horn section\, upright bass\, drums\, keyboards\, guitar\, and harmonica\, along with multiple singers and harmonies.  For nearly 30 years\, their combination of outstanding musicianship\, showmanship\, and humor\, has kept dance floors filled and audiences entertained.  Find out more at Blue Lunch \nThe Swing Dance\, with live performance\, begins at 9:00 p.m.  Preceded by a one hour swing dance lesson at 8:00 p.m. Experienced and non-experienced dancers are welcome.  This public\, family-friendly event is open to all ages.  No partner is required for the lesson or the dance.  Admission is $10 for youth (9-17 years)\, $15 for adults (18+ years)\, $35 per family (not friends)\, and free for 8 years and younger. \nAdmission includes the 8:00 p.m. lesson and 9:00 p.m. live performance and dance.  A different live band performs the first Friday of every month.  For additional information\, please contact Will Craig by calling (216) 316-0068 or E-mailing willrcraig@gmail.com. Sponsored by Kenston Community Education.
URL:https://geauganews.com/local-event/blue-lunch-plays-live-at-the-bainbridge-swing-dance-on-november-2/
LOCATION:Timmons Elementary School Gymnasium\, 9595 East Washington Street\, Chagrin Falls\, OH\, 44023\, United States
ATTACH;FMTTYPE=image/jpeg:https://geauganews.com/wp-content/uploads/2017/01/Bainbridge-Swing-Dance.jpg
END:VEVENT
BEGIN:VEVENT
DTSTART;TZID=America/New_York:20171103T200000
DTEND;TZID=America/New_York:20171103T233000
DTSTAMP:20260422T203540
CREATED:20171012T130953Z
LAST-MODIFIED:20171015T131921Z
UID:10000699-1509739200-1509751800@geauganews.com
SUMMARY:Bainbridge Swing Dance and Blue Lunch Playing Live on Friday\, November 3rd!
DESCRIPTION:Blue Lunch is playing live at the Bainbridge Swing Dance Friday\, November 3rd at Timmons Elementary School  (9595 East Washington St; Chagrin Falls\, OH 44023). \nBlue Lunch is a late 1940’s and early 1950’s band featuring a three piece horn section\, upright bass\, drums\, keyboards\, guitar\, and harmonica\, along with multiple singers and harmonies.  For nearly 30 years\, their combination of outstanding musicianship\, showmanship\, and humor\, has kept dance floors filled and audiences entertained.  Find out more at Blue Lunch \nThe Swing Dance\, with live performance\, begins at 9:00 p.m.  Preceded by a one hour swing dance lesson at 8:00 p.m. Experienced and non-experienced dancers are welcome.  This public\, family-friendly event is open to all ages.  No partner is required for the lesson or the dance.  Admission is $10.00 per adult\, $8.00 per youth or $25.00 per family. \nAdmission includes the 8:00 p.m. lesson and 9:00 p.m. live performance and dance.  A different live band performs the first Friday of every month.  For additional information\, please contact Will Craig by calling (216) 316-0068 or E-mailing willrcraig@gmail.com. Sponsored by Kenston Community Education.
URL:https://geauganews.com/local-event/bainbridge-swing-dance-blue-lunch-playing-live-friday-november-3rd/
LOCATION:Timmons Elementary School Gymnasium\, 9595 East Washington Street\, Chagrin Falls\, OH\, 44023\, United States
ATTACH;FMTTYPE=image/jpeg:https://geauganews.com/wp-content/uploads/2017/10/Blue-Lunch-Band.jpg
END:VEVENT
BEGIN:VEVENT
DTSTART;TZID=America/New_York:20161104T200000
DTEND;TZID=America/New_York:20161104T233000
DTSTAMP:20260422T203540
CREATED:20161013T144347Z
LAST-MODIFIED:20161013T144347Z
UID:10000618-1478289600-1478302200@geauganews.com
SUMMARY:Bainbridge Swing Dance and Blue Lunch
DESCRIPTION:Blue Lunch is playing live at the Bainbridge Swing Dance Friday\, November 4th at Timmons Elementary School (9595 East Washington Street; Chagrin Falls\, OH 44023). Sponsored by KCE. 216-316-0068. Lesson at 8:00 pm. Dance and live music 9:00 – 11:30 pm. Adult $10.00\, youth $8.00\, family $25.00. \nBlue Lunch is a late 1940’s and early 1950’s band featuring a three piece horn section\, upright bass\, drums\, keyboards\, guitar\, and harmonica\, along with multiple singers and harmonies. For nearly 30 years\, their combination of outstanding musicianship\, showmanship\, and humor\, has kept dance floors filled and audiences entertained. Find out more at www.BlueLunch.com \nThe Swing Dance\, with live performance\, begins at 9:00 p.m. Preceded by a one hour swing dance lesson at 8:00 p.m. Experienced and non-experienced dancers are welcome. This public\, family-friendly event is open to all ages. No partner is required for the lesson or the dance. Admission is $10.00 per adult\, $8.00 per youth or $25.00 per family. Admission includes the 8:00 p.m. lesson and 9:00 p.m. live performance and dance. A different live band performs the first Friday of every month. For additional information\, please contact Will Craig by calling (216) 316-0068 or E-mailing willrcraig@gmail.com.
URL:https://geauganews.com/local-event/bainbridge-swing-dance-and-blue-lunch/
LOCATION:Timmons Elementary School Gymnasium\, 9595 East Washington Street\, Chagrin Falls\, OH\, 44023\, United States
ATTACH;FMTTYPE=image/jpeg:https://geauganews.com/wp-content/uploads/2016/10/Swing-Dance.jpg
END:VEVENT
BEGIN:VEVENT
DTSTART;TZID=UTC:20131101T200000
DTEND;TZID=UTC:20131101T233000
DTSTAMP:20260422T203540
CREATED:20131021T184517Z
LAST-MODIFIED:20131021T184517Z
UID:10000204-1383336000-1383348600@geauganews.com
SUMMARY:Bainbridge Swing Dance
DESCRIPTION:Blue Lunch will be performing live at the Bainbridge Swing Dance. This late 1940’s and early 1950’s band features a three piece horn section\, upright bass\, drums\, keyboards\, guitar\, and harmonica\, along with multiple singers and harmonies. For nearly 30 years\, their combination of outstanding musicianship\, showmanship\, and humor\, has kept dance floors filled and audiences entertained. \nThe Swing Dance\, with live performance by Blue Lunch\, begins at 9:00 p.m. Preceded by a one hour swing dance lesson at 8:00 p.m. Experienced and non- experienced dancers are welcome. This public\, family-friendly event is open to all ages. No partner is required for the lesson or the dance. Admission is $10 per adult\, $8 per student or $25 per family. Admission includes the 8:00 p.m. lesson and 9:00 p.m. live performance and dance. A different live band performs the first Friday of every month. \nSponsored by Kenston Community Education. For additional information\, please contact Will Craig by calling (216) 316-0068 or E-mailing willrcraig@gmail.com.
URL:https://geauganews.com/local-event/bainbridge-swing-dance/
LOCATION:Timmons Elementary School Gymnasium\, 9595 East Washington Street\, Chagrin Falls\, OH\, 44023\, United States
ORGANIZER;CN="Will Craig":MAILTO:willrcraig@gmail.com
END:VEVENT
END:VCALENDAR