BEGIN:VCALENDAR
VERSION:2.0
PRODID:-//Geauga News - ECPv6.15.20//NONSGML v1.0//EN
CALSCALE:GREGORIAN
METHOD:PUBLISH
X-ORIGINAL-URL:https://geauganews.com
X-WR-CALDESC:Events for Geauga News
REFRESH-INTERVAL;VALUE=DURATION:PT1H
X-Robots-Tag:noindex
X-PUBLISHED-TTL:PT1H
BEGIN:VTIMEZONE
TZID:America/New_York
BEGIN:DAYLIGHT
TZOFFSETFROM:-0500
TZOFFSETTO:-0400
TZNAME:EDT
DTSTART:20130310T070000
END:DAYLIGHT
BEGIN:STANDARD
TZOFFSETFROM:-0400
TZOFFSETTO:-0500
TZNAME:EST
DTSTART:20131103T060000
END:STANDARD
BEGIN:DAYLIGHT
TZOFFSETFROM:-0500
TZOFFSETTO:-0400
TZNAME:EDT
DTSTART:20140309T070000
END:DAYLIGHT
BEGIN:STANDARD
TZOFFSETFROM:-0400
TZOFFSETTO:-0500
TZNAME:EST
DTSTART:20141102T060000
END:STANDARD
BEGIN:DAYLIGHT
TZOFFSETFROM:-0500
TZOFFSETTO:-0400
TZNAME:EDT
DTSTART:20150308T070000
END:DAYLIGHT
BEGIN:STANDARD
TZOFFSETFROM:-0400
TZOFFSETTO:-0500
TZNAME:EST
DTSTART:20151101T060000
END:STANDARD
BEGIN:DAYLIGHT
TZOFFSETFROM:-0500
TZOFFSETTO:-0400
TZNAME:EDT
DTSTART:20160313T070000
END:DAYLIGHT
BEGIN:STANDARD
TZOFFSETFROM:-0400
TZOFFSETTO:-0500
TZNAME:EST
DTSTART:20161106T060000
END:STANDARD
BEGIN:DAYLIGHT
TZOFFSETFROM:-0500
TZOFFSETTO:-0400
TZNAME:EDT
DTSTART:20170312T070000
END:DAYLIGHT
BEGIN:STANDARD
TZOFFSETFROM:-0400
TZOFFSETTO:-0500
TZNAME:EST
DTSTART:20171105T060000
END:STANDARD
BEGIN:DAYLIGHT
TZOFFSETFROM:-0500
TZOFFSETTO:-0400
TZNAME:EDT
DTSTART:20180311T070000
END:DAYLIGHT
BEGIN:STANDARD
TZOFFSETFROM:-0400
TZOFFSETTO:-0500
TZNAME:EST
DTSTART:20181104T060000
END:STANDARD
BEGIN:DAYLIGHT
TZOFFSETFROM:-0500
TZOFFSETTO:-0400
TZNAME:EDT
DTSTART:20190310T070000
END:DAYLIGHT
BEGIN:STANDARD
TZOFFSETFROM:-0400
TZOFFSETTO:-0500
TZNAME:EST
DTSTART:20191103T060000
END:STANDARD
BEGIN:DAYLIGHT
TZOFFSETFROM:-0500
TZOFFSETTO:-0400
TZNAME:EDT
DTSTART:20200308T070000
END:DAYLIGHT
BEGIN:STANDARD
TZOFFSETFROM:-0400
TZOFFSETTO:-0500
TZNAME:EST
DTSTART:20201101T060000
END:STANDARD
BEGIN:DAYLIGHT
TZOFFSETFROM:-0500
TZOFFSETTO:-0400
TZNAME:EDT
DTSTART:20210314T070000
END:DAYLIGHT
BEGIN:STANDARD
TZOFFSETFROM:-0400
TZOFFSETTO:-0500
TZNAME:EST
DTSTART:20211107T060000
END:STANDARD
END:VTIMEZONE
BEGIN:VEVENT
DTSTART;TZID=America/New_York:20200201T183000
DTEND;TZID=America/New_York:20200201T223000
DTSTAMP:20260425T093919
CREATED:20200112T151453Z
LAST-MODIFIED:20200112T151453Z
UID:10000879-1580581800-1580596200@geauganews.com
SUMMARY:Troy Township Contra Dance
DESCRIPTION:The next Troy Township Contra Dance is Saturday\, February 1st at the Troy Community House\, 13950 Main Market Road / Route 422; Burton\, Ohio 44021 every first Saturday of the month (October through June).  This dance is lively and friendly. Try it\, you will like it! All ages join in the irresistibly fun atmosphere of Contra Dance with live folk music.  Lesson at 6:30 p.m.  Dancing from 7:30 p.m. – 10:30 p.m.  Adult $10\, youth $5\, family $25. \nNo need for prior dance experience.  Each Contra Dance\, throughout the evening\, is taught through simple instruction by dance caller Paul Balliet.  With LIVE folk music.  This is a great family friendly event that you will look forward to every first Saturday of the month (October through June). \nIntroductory dance lesson\, by Will Craig\, starts at 6:30 p.m. and the Contra Dance is from 7:30 p.m. to 10:30 p.m.  Admission is $10 per adult\, $5 per youth\, $25 per family and children under six years are free.  For more information contact Will Craig by calling (216) 316-0068 or E-mailing willrcraig@gmail.com.  Investigate North Eastern Ohio’s Contra Dance culture\, history and schedule by visiting  www.neohiocontradance.org.
URL:https://geauganews.com/local-event/troy-township-contra-dance-26/
LOCATION:Troy Community House\, 13950 Main Market Road\, Burton\, 44021
ATTACH;FMTTYPE=image/jpeg:https://geauganews.com/wp-content/uploads/2017/03/Troy-Twp-Contra-Dance.jpg
END:VEVENT
BEGIN:VEVENT
DTSTART;TZID=America/New_York:20191102T183000
DTEND;TZID=America/New_York:20191102T223000
DTSTAMP:20260425T093919
CREATED:20190917T005154Z
LAST-MODIFIED:20190917T005154Z
UID:10000843-1572719400-1572733800@geauganews.com
SUMMARY:Troy Township Contra Dance
DESCRIPTION:Troy Township Contra Dance on Saturday\, November 2nd at the Troy Community House (13950 Main Market Road / Route 422; Burton\, Ohio 44021). This dance is held every first Saturday of the month (October through June). All ages join in the irresistibly fun atmosphere of Contra Dance with live folk music.  This dance is lively and friendly. Try it\, you will like it.Lesson at 6:30 p.m.  Dance from 7:30 p.m. – 10:30 p.m.  Adults $10\, youth $5\, family $25. \nNo need for prior dance experience.  Each Contra Dance\, throughout the evening\, is taught through simple instruction by dance caller Paul Balliet.  With LIVE folk music.  This is a great family friendly event that you will look forward to every first Saturday of the month (October through June). \nIntroductory dance lesson\, by Will Craig\, starts at 6:30 p.m. and the Contra Dance is from 7:30 p.m. to 10:30 p.m.  Admission is $10 per adult\, $5 per youth\, $25 per family and children under six years are free.  For more information contact Will Craig by calling (216) 316-0068 or E-mailing willrcraig@gmail.com.  Investigate North Eastern Ohio’s Contra Dance culture\, history and schedule by visiting  Northeast Ohio Contra Dance.
URL:https://geauganews.com/local-event/troy-township-contra-dance-21/
LOCATION:Troy Community House\, 13950 Main Market Road\, Burton\, 44021
ATTACH;FMTTYPE=image/jpeg:https://geauganews.com/wp-content/uploads/2017/03/Troy-Twp-Contra-Dance.jpg
END:VEVENT
BEGIN:VEVENT
DTSTART;TZID=America/New_York:20180407T183000
DTEND;TZID=America/New_York:20180407T223000
DTSTAMP:20260425T093919
CREATED:20180211T151608Z
LAST-MODIFIED:20180211T151747Z
UID:10000727-1523125800-1523140200@geauganews.com
SUMMARY:Save the Date for the Next Troy Township Contra Dance on Saturday April 7
DESCRIPTION:The next Troy Township Contra Dance will be held on Saturday\, April 7th at the Troy Community House (13950 Main Market Road / Route 422; Burton\, Ohio 44021). All ages are welcome to join in the irresistibly fun atmosphere of Contra Dance and live folk music by the band “Mr. Haney”. This dance is lively and friendly. Try it\, you will like it. Lesson at 6:30 p.m.  Dance from 7:30 p.m. – 10:30 p.m.  Adult $10\, youth $5\, family $25. \nNo need for prior dance experience.  Each Contra Dance\, throughout the evening\, is taught through simple instruction by dance caller Paul Balliet.  With LIVE MUSIC by the band “Mr. Haney”!  This is a great family friendly event that you will look forward to every first Saturday of the month (October through June). \nIntroductory dance lesson\, by Will Craig\, starts at 6:30 p.m. and the Contra Dance is from 7:30 p.m. to 10:30 p.m.  Admission is $10 per adult\, $5 per youth\, $25 per family and children under six years are free.  For more information contact Will Craig by calling (216) 316-0068 or E-mailing willrcraig@gmail.com.  Investigate North Eastern Ohio’s Contra Dance culture\, history and schedule by visiting Northeast Ohio Contra Dance.
URL:https://geauganews.com/local-event/save-date-next-troy-township-contra-dance-saturday-april-7/
LOCATION:Troy Community House\, 13950 Main Market Road\, Burton\, 44021
ATTACH;FMTTYPE=image/jpeg:https://geauganews.com/wp-content/uploads/2017/03/Troy-Twp-Contra-Dance.jpg
END:VEVENT
BEGIN:VEVENT
DTSTART;TZID=America/New_York:20140104T183000
DTEND;TZID=America/New_York:20140104T223000
DTSTAMP:20260425T093919
CREATED:20140102T195446Z
LAST-MODIFIED:20140102T195446Z
UID:10000282-1388860200-1388874600@geauganews.com
SUMMARY:Troy Township Contra Dance
DESCRIPTION:Saturday\, January 4th at the Troy Community House (13950 Main Market Road / Route 422; Burton\, Ohio 44021). All ages join in the irresistibly fun atmosphere of Contra Dance and live folk music. Lesson at 6:30pm. Dance 7:30-10:30pm. Adult $8\, student $5\, family $25.
URL:https://geauganews.com/local-event/troy-township-contra-dance-2/
LOCATION:Troy Community House\, 13950 Main Market Road\, Burton\, 44021
END:VEVENT
END:VCALENDAR