BEGIN:VCALENDAR
VERSION:2.0
PRODID:-//Geauga News - ECPv6.15.20//NONSGML v1.0//EN
CALSCALE:GREGORIAN
METHOD:PUBLISH
X-ORIGINAL-URL:https://geauganews.com
X-WR-CALDESC:Events for Geauga News
REFRESH-INTERVAL;VALUE=DURATION:PT1H
X-Robots-Tag:noindex
X-PUBLISHED-TTL:PT1H
BEGIN:VTIMEZONE
TZID:America/New_York
BEGIN:DAYLIGHT
TZOFFSETFROM:-0500
TZOFFSETTO:-0400
TZNAME:EDT
DTSTART:20120311T070000
END:DAYLIGHT
BEGIN:STANDARD
TZOFFSETFROM:-0400
TZOFFSETTO:-0500
TZNAME:EST
DTSTART:20121104T060000
END:STANDARD
BEGIN:DAYLIGHT
TZOFFSETFROM:-0500
TZOFFSETTO:-0400
TZNAME:EDT
DTSTART:20130310T070000
END:DAYLIGHT
BEGIN:STANDARD
TZOFFSETFROM:-0400
TZOFFSETTO:-0500
TZNAME:EST
DTSTART:20131103T060000
END:STANDARD
BEGIN:DAYLIGHT
TZOFFSETFROM:-0500
TZOFFSETTO:-0400
TZNAME:EDT
DTSTART:20140309T070000
END:DAYLIGHT
BEGIN:STANDARD
TZOFFSETFROM:-0400
TZOFFSETTO:-0500
TZNAME:EST
DTSTART:20141102T060000
END:STANDARD
END:VTIMEZONE
BEGIN:VEVENT
DTSTART;TZID=America/New_York:20130525T130000
DTEND;TZID=America/New_York:20130525T160000
DTSTAMP:20260422T073140
CREATED:20130515T184940Z
LAST-MODIFIED:20130515T190156Z
UID:10000009-1369486800-1369497600@geauganews.com
SUMMARY:Lost Lake Canoe Expedition
DESCRIPTION:Experienced canoeists take a rugged but rewarding canoe trip to a remote\, seldom seen wild marsh accessed from the Upper Cuyahoga River. Be prepared for the possibility of wading and muddy portages as shallow water and beaver-felled trees provide the adventure. Ages 16 and up. Registration will be available May 18 through 24.
URL:https://geauganews.com/local-event/lost-lake-canoe-expedition/
LOCATION:Upper Cuyahoga Route 87 Parking Lot
END:VEVENT
END:VCALENDAR