BEGIN:VCALENDAR
VERSION:2.0
PRODID:-//Geauga News - ECPv6.15.20//NONSGML v1.0//EN
CALSCALE:GREGORIAN
METHOD:PUBLISH
X-WR-CALNAME:Geauga News
X-ORIGINAL-URL:https://geauganews.com
X-WR-CALDESC:Events for Geauga News
REFRESH-INTERVAL;VALUE=DURATION:PT1H
X-Robots-Tag:noindex
X-PUBLISHED-TTL:PT1H
BEGIN:VTIMEZONE
TZID:America/New_York
BEGIN:DAYLIGHT
TZOFFSETFROM:-0500
TZOFFSETTO:-0400
TZNAME:EDT
DTSTART:20120311T070000
END:DAYLIGHT
BEGIN:STANDARD
TZOFFSETFROM:-0400
TZOFFSETTO:-0500
TZNAME:EST
DTSTART:20121104T060000
END:STANDARD
BEGIN:DAYLIGHT
TZOFFSETFROM:-0500
TZOFFSETTO:-0400
TZNAME:EDT
DTSTART:20130310T070000
END:DAYLIGHT
BEGIN:STANDARD
TZOFFSETFROM:-0400
TZOFFSETTO:-0500
TZNAME:EST
DTSTART:20131103T060000
END:STANDARD
BEGIN:DAYLIGHT
TZOFFSETFROM:-0500
TZOFFSETTO:-0400
TZNAME:EDT
DTSTART:20140309T070000
END:DAYLIGHT
BEGIN:STANDARD
TZOFFSETFROM:-0400
TZOFFSETTO:-0500
TZNAME:EST
DTSTART:20141102T060000
END:STANDARD
END:VTIMEZONE
BEGIN:VEVENT
DTSTART;TZID=America/New_York:20130815T190000
DTEND;TZID=America/New_York:20130815T203000
DTSTAMP:20260420T082717
CREATED:20130731T180017Z
LAST-MODIFIED:20130731T180017Z
UID:10000095-1376593200-1376598600@geauganews.com
SUMMARY:The BUZZ About Bees and Wasps
DESCRIPTION:Naturalist draws focus to oft-misunderstood stingers \nMost people know bees and wasps as insects that sting. \nBut members of the order hymenoptera are pollinators\, predators\, parasites and producers of honey. Be amazed by their important roles at this program\, and you may find it possible to coexist with these actually beneficial\, fascinating creatures. \nClick here for event information.
URL:https://geauganews.com/local-event/the-buzz-about-bees-and-wasps/
LOCATION:West Woods Nature Center\, 9465 Kinsman Rd\, Russell Township
END:VEVENT
BEGIN:VEVENT
DTSTART;TZID=America/New_York:20130808T183000
DTEND;TZID=America/New_York:20130808T203000
DTSTAMP:20260420T082717
CREATED:20130729T162601Z
LAST-MODIFIED:20130729T171554Z
UID:10000093-1375986600-1375993800@geauganews.com
SUMMARY:Sage's Story
DESCRIPTION:Meet Bob Sage of Sage’s Apples\, a fifth-generation family fruit and vegetable farm and farm market in Chardon\, for a discussion of the history of the Sages’ agricultural work in the region. \nClick here for event information. \n 
URL:https://geauganews.com/local-event/sages-story/
LOCATION:West Woods Nature Center\, 9465 Kinsman Rd\, Russell Township
END:VEVENT
END:VCALENDAR